BEGIN:VCALENDAR
VERSION:2.0
PRODID:-//eventon.com NONSGML v1.0//EN
CALSCALE:GREGORIAN
METHOD:PUBLISH
BEGIN:VEVENT
UID:69e89241226a8
DTSTAMP:20260422T091753Z
DTSTART:20260402T153000Z
DTEND:20260402T215900Z
LOCATION:Osnabrück | Museum am Schölerberg (Planetarium) Klaus-Strick-Weg 12
SUMMARY:Osnabrücker Sternen­himmel
DESCRIPTION:Während dieser Live-Vorführungen werden Sternbilder und bemer
 kenswerte Erscheinungen am Sternhimmel vorgestellt\,  die in den folgenden 
 Wochen beobachtet werden können. Diese Veranstaltung regt zum eigenen Beo
 bachten an. Sei es mit dem bloßen Auge\,  einem Fernglas oder einem Telesk
 op. Berichte über spannende Beobachtungen und wichtige Neuigkeiten aus Wis
 senschaft und Raumfahrt runden das Angebot[..]\nhttps://kukuk.de/events/osn
 abruecker-sternenhimmel-3/
URL:https://kukuk.de/events/osnabruecker-sternenhimmel-3/
END:VEVENT
END:VCALENDAR