BEGIN:VCALENDAR
VERSION:2.0
PRODID:-//eventon.com NONSGML v1.0//EN
CALSCALE:GREGORIAN
METHOD:PUBLISH
BEGIN:VEVENT
UID:69e8a72a32047
DTSTAMP:20260422T104706Z
DTSTART:20260407T173000Z
DTEND:20260407T215900Z
LOCATION:Osnabrück | Museum am Schölerberg (Planetarium) Klaus-Strick-Weg 12
SUMMARY:Unsere himmlische Geschichte
DESCRIPTION:Die Show basiert auf dem beliebten Programm „100 Jahre Ewigke
 it“ und zeichnet die sich wandelnde Vorstellung des Menschen vom Himmel n
 ach. Die Entwicklung von der Frühzeit bis zur Moderne wird durch immersive
  Realbildaufnahmen\,  eindrucksvolle Animationen und mit Hilfe des Sternenp
 rojektors erzählt. Eingelesen wurde die Show von Hans Peter Bögel.\nhttps
 ://kukuk.de/events/unsere-himmlische-geschichte-2/
URL:https://kukuk.de/events/unsere-himmlische-geschichte-2/
END:VEVENT
END:VCALENDAR