BEGIN:VCALENDAR
VERSION:2.0
PRODID:-//eventon.com NONSGML v1.0//EN
CALSCALE:GREGORIAN
METHOD:PUBLISH
BEGIN:VEVENT
UID:69e8a57a7139b
DTSTAMP:20260422T103954Z
DTSTART:20260404T123000Z
DTEND:20260404T215900Z
LOCATION:Osnabrück | Museum am Schölerberg (Planetarium) Klaus-Strick-Weg 12
SUMMARY:Dinosaurier – Eine Geschichte des Überlebens
DESCRIPTION:Celeste ist wie alle Kinder von Dinosauriern begeistert. Bei ih
 ren Hausaufgaben wird sie von ihrem magischen Freund Moon mit der Frage kon
 frontiert\,  ob Dinos noch heute existieren könnten. Neugierig begibt sich
  Celeste daraufhin mit Moon auf eine abenteuerliche Zeitreise in die ferne 
 Vergangenheit. Sie erkunden\,  wie sich Dinosaurier entwickelt und[..]\nhtt
 ps://kukuk.de/events/dinosaurier-eine-geschichte-des-ueberlebens-7/
URL:https://kukuk.de/events/dinosaurier-eine-geschichte-des-ueberlebens-7/
END:VEVENT
END:VCALENDAR