BEGIN:VCALENDAR
VERSION:2.0
PRODID:-//eventon.com NONSGML v1.0//EN
CALSCALE:GREGORIAN
METHOD:PUBLISH
BEGIN:VEVENT
UID:69e89213b2d98
DTSTAMP:20260422T091707Z
DTSTART:20260405T090000Z
DTEND:20260405T215900Z
LOCATION:Osnabrück | Museum am Schölerberg Klaus-Strick-Weg 12
SUMMARY:„Reise durch die Zeit“ | Sonntags­führung
DESCRIPTION:Die Dauerausstellung im Museum am Schölerberg zeigt die Entwic
 klung des Lebens von der Geburt unseres Planeten bis hin zu städtischen Zu
 kunftsmodellen. Sie bietet eine spannende Mischung einzigartiger Exponate\,
   moderner Technik und interaktiver Stationen. Besucher*innen entdecken unt
 er anderem einen detailreichen Karbonwald\,  in dem Augmented Reality ausge
 storbene Tiere wieder zum Leben erweckt\, [..]\nhttps://kukuk.de/events/rei
 se-durch-die-zeit-sonntagsfuehrung-2/
URL:https://kukuk.de/events/reise-durch-die-zeit-sonntagsfuehrung-2/
END:VEVENT
END:VCALENDAR