BEGIN:VCALENDAR
VERSION:2.0
PRODID:-//eventon.com NONSGML v1.0//EN
CALSCALE:GREGORIAN
METHOD:PUBLISH
BEGIN:VEVENT
UID:69e8949eb9412
DTSTAMP:20260422T092758Z
DTSTART:20260315
DTEND:20260316
LOCATION:Osnabrück | Piesberger Gesellschaftshaus Glückaufstr. 1
SUMMARY:„Echt. Wetter.“ – Sichtbar.Spürbar.
DESCRIPTION:Im Rahmen der Fotoausstellung „Echt. Wetter.“ widmen sich d
 ie Fotograf*innen der Photocrew Osnabrück dem Thema Wetter – nicht als H
 intergrund\,  sondern als prägende Kraft. Die Fotografien sind an untersch
 iedlichen Orten entstanden und richten den Blick auf atmosphärische Zustä
 nde und Momente: auf Nebel\,  Regen\,  Wind\,  Kälte und Licht\,  die Räu
 me verändern[..]\nhttps://kukuk.de/events/echt-wetter-sichtbar-spuerbar/
URL:https://kukuk.de/events/echt-wetter-sichtbar-spuerbar/
END:VEVENT
END:VCALENDAR