BEGIN:VCALENDAR
VERSION:2.0
PRODID:-//eventon.com NONSGML v1.0//EN
CALSCALE:GREGORIAN
METHOD:PUBLISH
BEGIN:VEVENT
UID:69e766fa212a9
DTSTAMP:20260421T120058Z
DTSTART:20260509T210000Z
DTEND:20260509T215900Z
LOCATION:Osnabrück | Lagerhalle Rolandsmauer 26\,  49074 Osnabrück
SUMMARY:Schall und Wahn
DESCRIPTION:„Leben… ist nichts mehr als eine Fabel\,  erzählt von eine
 m Idioten\,  voll mit Schall und Wahn\,  die nichts bedeutet.“ – So ode
 r so ähnlich heißt es schon in Shakespeares Macbeth. Doch ehe man sich ve
 rsieht\,  verschwinden Schall und Wahn aus unserem Leben. Was bleibt\,  sin
 d die Idioten. Doch nicht hier![..]\nhttps://kukuk.de/events/schall-und-wah
 n/
URL:https://kukuk.de/events/schall-und-wahn/
END:VEVENT
END:VCALENDAR