BEGIN:VCALENDAR
VERSION:2.0
PRODID:-//eventon.com NONSGML v1.0//EN
CALSCALE:GREGORIAN
METHOD:PUBLISH
BEGIN:VEVENT
UID:69e89197b687d
DTSTAMP:20260422T091503Z
DTSTART:20260209T190000Z
DTEND:20260209T225900Z
LOCATION:Osnabrück | Lagerhalle Rolandsmauer 26\,  49074 Osnabrück
SUMMARY:Blue Monday Jam
DESCRIPTION:Blue Monday Jam\nhttps://kukuk.de/events/blue-monday-jam-2/var/
 ri-4.l-L1
URL:https://kukuk.de/events/blue-monday-jam-2/var/ri-4.l-L1
END:VEVENT
END:VCALENDAR