BEGIN:VCALENDAR
VERSION:2.0
PRODID:-//eventon.com NONSGML v1.0//EN
CALSCALE:GREGORIAN
METHOD:PUBLISH
BEGIN:VEVENT
UID:69e891dccb73c
DTSTAMP:20260422T091612Z
DTSTART:20260115
DTEND:20260116
LOCATION:Osnabrück | Kulturhaus am Heger Tor Marienstr. 5/6
SUMMARY:Immer wieder neu
DESCRIPTION:Die Ausstellung zeigt Partnerwerke von 14 Kunst-Studierenden de
 r Atelierlehre Malerei bei Prof. Jakubaschke-Ehlers\,  an der Universität 
 Osnabrück\,  Institut für Kunst/Kunstpädagogik\,  zu Bildbeispielen des 
 Künstlers Vordemberge Gildewarts. Künstler*innen: Ilayda Ceren Alp\,  Sel
 ina Befort\,  Deborah Fründ\,  Svea Haferkamp\,  Jonna Klesse\,  Lena Kuhl
 mann\,  Paula Langer\,  Luisa Schwarznecker\,  Martje Petruck\,  Jeannine P
 öttker\,  Tabita Seifert\, [..]\nhttps://kukuk.de/events/immer-wieder-neu/
URL:https://kukuk.de/events/immer-wieder-neu/
END:VEVENT
END:VCALENDAR