BEGIN:VCALENDAR
VERSION:2.0
PRODID:-//eventon.com NONSGML v1.0//EN
CALSCALE:GREGORIAN
METHOD:PUBLISH
BEGIN:VEVENT
UID:69e88e7563f5b
DTSTAMP:20260422T090141Z
DTSTART:20260426T120000Z
DTEND:20260426T150000Z
LOCATION:Osnabrück | K.A.F.F. – Kultur am fantastischen Freihafen Am Speicher 9
SUMMARY:Lindy Hop Teadance
DESCRIPTION:Ab September wird Lindy Hop im K. A. F. F. getanzt – neben Ch
 arleston\,  Balboa und Co. einer der wichtigsten Swingtänze der 20erJahre.
  Hierbei kommt es nicht auf Schrittfolgen\,  feste Figuren und auch nicht a
 uf ein festgelegtes Führen (lead) und Folgen (follow) an\,  sondern darauf
 \,  die Musik „zu vertanzen“ und[..]\nhttps://kukuk.de/events/lindy-hop
 -teadance-2/var/ri-1.l-L1
URL:https://kukuk.de/events/lindy-hop-teadance-2/var/ri-1.l-L1
END:VEVENT
END:VCALENDAR