BEGIN:VCALENDAR
VERSION:2.0
PRODID:-//eventon.com NONSGML v1.0//EN
CALSCALE:GREGORIAN
METHOD:PUBLISH
BEGIN:VEVENT
UID:69e9e41ad5378
DTSTAMP:20260423T091922Z
DTSTART:20260423T170000Z
DTEND:20260423T215900Z
LOCATION:Melle | Martinikirche Kirchplatz 1\,  49328 Melle-Buer
SUMMARY:Das 9. Meller Rudel­singen
DESCRIPTION:Singen macht nicht nur glücklich und schön\,  es kann auch Gu
 tes tun. Mit dem Rudelsingen ist ein neuer Trend entstanden. Jeden Monat tr
 effen sich über 6.000 Menschen\,  um in lockerer Atmosphäre in über 60 S
 tädten in fast ganz Deutschland\,  Niedersachen\,  Bremen und Hamburg geme
 insam zu Hits von damals bis heute[..]\nhttps://kukuk.de/events/das-9-melle
 r-rudelsingen/
URL:https://kukuk.de/events/das-9-meller-rudelsingen/
END:VEVENT
END:VCALENDAR