BEGIN:VCALENDAR
VERSION:2.0
PRODID:-//eventon.com NONSGML v1.0//EN
CALSCALE:GREGORIAN
METHOD:PUBLISH
BEGIN:VEVENT
UID:69e894cbe19ae
DTSTAMP:20260422T092843Z
DTSTART:20260126T160000Z
DTEND:20260126T170000Z
LOCATION:Osnabrück | Haus der evang. Studierendengemeinde Arndtstr. 19
SUMMARY:DFG Lesekreis („Cercle de Lecture“)
DESCRIPTION:Die Teilnehmer*innen lesen ein Buch und tauschen sich gemeinsam
  darüber aus.\nhttps://kukuk.de/events/dfg-lesekreis-cercle-de-lecture-4/
URL:https://kukuk.de/events/dfg-lesekreis-cercle-de-lecture-4/
END:VEVENT
END:VCALENDAR