BEGIN:VCALENDAR
VERSION:2.0
PRODID:-//eventon.com NONSGML v1.0//EN
CALSCALE:GREGORIAN
METHOD:PUBLISH
BEGIN:VEVENT
UID:69e8a6c7e8be2
DTSTAMP:20260422T104527Z
DTSTART:20260410T120000Z
DTEND:20260410T215900Z
LOCATION:Treffpunkt: Tuchmacher Museum (Riverside) Mühlenort 6\,  Bramsche
SUMMARY:Bramscher Feier­abend­tour | ADFC
DESCRIPTION:Gemütliche Radtour um Bramsche mit Kaffeepause und Pflückpaus
 en. Länge: 40 km Tourleitung: Ansgar Hagemann Voraussetzungen sind ein ver
 kehrssicheres Fahrrad gem. StVZO § 63a\,  Ersatzschlauch und Flickzeug. Di
 e ADFC-Tourenleiter*innen nehmen allein in Osnabrück jährlich mehr als 18
 00 Teilnehmer*innen mit auf ca. 140 Radtouren durch die Region. Sie zeigen 
 gern die schönsten[..]\nhttps://kukuk.de/events/bramscher-feierabendtour-a
 dfc/
URL:https://kukuk.de/events/bramscher-feierabendtour-adfc/
END:VEVENT
END:VCALENDAR