BEGIN:VCALENDAR
VERSION:2.0
PRODID:-//eventon.com NONSGML v1.0//EN
CALSCALE:GREGORIAN
METHOD:PUBLISH
BEGIN:VEVENT
UID:69e7380e51acb
DTSTAMP:20260421T084046Z
DTSTART:20260403T160000Z
DTEND:20260403T215900Z
LOCATION:Osnabrück | Figurentheater – Alte Fuhrhalterei Kleine Gildewart 9
SUMMARY:„Die Geschichte vom blauen und vom gelben Meer“ | Theater Fundulus
DESCRIPTION:Auf der kleinen Insel häufen sich die Missverständnisse. Der 
 Steuerminister jagt überall nach Geld und verlangt von der Ente Erna sogar
  Entensteuer. Selbst dem armen Felix\,  der vom eigenen goldgelben Kornfeld
  träumt\,  wird Gold und Reichtum unterstellt. Leider kann nicht einmal di
 e Prinzessin die Lage entwirren. In ihrer großen Sehnsucht[..]\nhttps://ku
 kuk.de/events/die-geschichte-vom-blauen-und-vom-gelben-meer-theater-fundulu
 s/
URL:https://kukuk.de/events/die-geschichte-vom-blauen-und-vom-gelben-meer-theater-fundulus/
END:VEVENT
END:VCALENDAR