BEGIN:VCALENDAR
VERSION:2.0
PRODID:-//eventon.com NONSGML v1.0//EN
CALSCALE:GREGORIAN
METHOD:PUBLISH
BEGIN:VEVENT
UID:69e891c335450
DTSTAMP:20260422T091547Z
DTSTART:20260405T180000Z
DTEND:20260405T215900Z
LOCATION:Osnabrück | Altstadt (Heger-Tor-Viertel) Große Gildewart
SUMMARY:Altstadt live
DESCRIPTION:Programminformationen: www.lagerhalle-osnabrueck.de/content/ver
 anstaltungen/altstadt-live/ Kneipen und Musik vom Feinsten! Die Wirte der A
 ltstadt öffnen ihre Kneipen und bereiten die Bühnen für Acts und Bands a
 us Nah und Fern. Dabei sind alte Bekannte und junge Talente. Vollmilch oder
  Zartbitter\,  Knickebein oder Marzipan\,  hier ist für jeden Geschmack et
 was dabei. Also raus dem Wohnzimmer[..]\nhttps://kukuk.de/events/altstadt-l
 ive/
URL:https://kukuk.de/events/altstadt-live/
END:VEVENT
END:VCALENDAR