BEGIN:VCALENDAR
VERSION:2.0
PRODID:-//eventon.com NONSGML v1.0//EN
CALSCALE:GREGORIAN
METHOD:PUBLISH
BEGIN:VEVENT
UID:69e4c05ec44d9
DTSTAMP:20260419T114534Z
DTSTART:20251127
DTEND:20251128
LOCATION:Mettingen | Draiflessen Collection Georgstr. 18
SUMMARY:Der Teufel
DESCRIPTION:Keine andere Gestalt hat im Christentum gleichermaßen Schrecke
 n und Faszination ausgelöst wie der Teufel. Jahrhundertelang fürchteten d
 ie Gläubigen\,  er und seine Dämonen würden als Gegenspieler Gottes jede
 rzeit versuchen\,  Unordnung in die Welt zu bringen. Nur der Teufel konnte 
 als Verursacher von Naturkatastrophen\,  Erdbeben und Seuchen gelten. Zudem
  war es ihm[..]\nhttps://kukuk.de/events/der-teufel/
URL:https://kukuk.de/events/der-teufel/
END:VEVENT
END:VCALENDAR