BEGIN:VCALENDAR
VERSION:2.0
PRODID:-//eventon.com NONSGML v1.0//EN
CALSCALE:GREGORIAN
METHOD:PUBLISH
BEGIN:VEVENT
UID:69e8a8a7188b8
DTSTAMP:20260422T105327Z
DTSTART:20260531T130000Z
DTEND:20260531T150000Z
LOCATION:Osnabrück | Piesberger Gesellschaftshaus Glückaufstr. 1
SUMMARY:Bal Folk
DESCRIPTION:Zusammen tanzen ist kommunikativ und macht glücklich. Ein bewe
 gter Tanznachmittag für Starter*innen und Fortgeschrittene mit Kreistänze
 n aus aller Welt. Tanzanleitung: Petra Schaffelt\nhttps://kukuk.de/events/b
 al-folk/
URL:https://kukuk.de/events/bal-folk/
END:VEVENT
END:VCALENDAR