BEGIN:VCALENDAR
VERSION:2.0
PRODID:-//eventon.com NONSGML v1.0//EN
CALSCALE:GREGORIAN
METHOD:PUBLISH
BEGIN:VEVENT
UID:69e7670bb101c
DTSTAMP:20260421T120115Z
DTSTART:20260523T180000Z
DTEND:20260523T215900Z
LOCATION:OsnabrÃ¼ck | Lagerhalle Rolandsmauer 26\,  49074 OsnabrÃ¼ck
SUMMARY:My Temptation Party
DESCRIPTION:Die beliebte My Temptation Party geht in eine neue Runde! Mit R
 ock-\,  Beat- und Soulmusik aus den alternativen Rockdiskotheken der Endsec
 hziger und Siebzigerjahre. Hier kÃ¶nnt Ihr erleben\,  wie gut gepflegte Vin
 ylschallplatten auf unserer tollen Anlage klingen. Das heiÃŸt: HiFi-QualitÃ
 ¤t genieÃŸen. In Erinnerungen schwelgen. Ausgiebig tanzen. Bei Musik von Al
 ex Harvey[..]\nhttps://kukuk.de/events/my-temptation-party/
URL:https://kukuk.de/events/my-temptation-party/
END:VEVENT
END:VCALENDAR