BEGIN:VCALENDAR
VERSION:2.0
PRODID:-//eventon.com NONSGML v1.0//EN
CALSCALE:GREGORIAN
METHOD:PUBLISH
BEGIN:VEVENT
UID:69e8a9f7572c8
DTSTAMP:20260422T105903Z
DTSTART:20260406T080000Z
DTEND:20260406T160000Z
LOCATION:Osnabrück | MIK Museum Industriekultur (Pferdestall) Süberweg 60
SUMMARY:Traditio­neller Saison­auftakt | Oldtimer IG
DESCRIPTION:Am Ostermontag findet auf dem Magazingelände des MIK tradition
 ell der Saisonauftakt der Oldtimer IG Osnabrück statt. Es werden zahlreich
 e  historische Fahrzeuge von der Nordsee bis zum Harz und dem Ruhrgebiet e
 rwartet. Auch das MIK ist mit von der Partie und öffnet den historischen T
 ante-Emma-Laden im Pferdestall für Besucher*innen. Auf dem[..]\nhttps://ku
 kuk.de/events/traditioneller-saisonauftakt-oldtimer-ig/
URL:https://kukuk.de/events/traditioneller-saisonauftakt-oldtimer-ig/
END:VEVENT
END:VCALENDAR