BEGIN:VCALENDAR
VERSION:2.0
PRODID:-//eventon.com NONSGML v1.0//EN
CALSCALE:GREGORIAN
METHOD:PUBLISH
BEGIN:VEVENT
UID:69e7670b6a483
DTSTAMP:20260421T120115Z
DTSTART:20260806
DTEND:20260807
LOCATION:Georgsmarienhütte | Hütte Rockt Festivalgelände Bielefelder Str. 11
SUMMARY:Hütte Rockt 2026
DESCRIPTION:HIER geht&#8217;s zu den KUKUK-Tickets: www.shop.huette-rockt.d
 e/kukuk-tickets Hütte Rockt ist ein genreübergreifendes Festival\,  das s
 eit 2007 in Georgsmarienhütte bei Osnabrück und in der Nähe von Bielefel
 d und Münster (Deutschland) stattfindet. Ursprünglich als kleines Open-Ai
 r-Festival mit knapp 2000 Besucher*innen für lokale Bands mit einigen übe
 rregionalen und größeren Highlights geplant\,  ist daraus mittlerweile[..
 ]\nhttps://kukuk.de/events/huette-rockt-2026/
URL:https://kukuk.de/events/huette-rockt-2026/
END:VEVENT
END:VCALENDAR