BEGIN:VCALENDAR
VERSION:2.0
PRODID:-//eventon.com NONSGML v1.0//EN
CALSCALE:GREGORIAN
METHOD:PUBLISH
BEGIN:VEVENT
UID:69e78025512b8
DTSTAMP:20260421T134821Z
DTSTART:20260521T150000Z
DTEND:20260521T215900Z
LOCATION:Osnabrück | Museum am Schölerberg (Museumsgarten) Klaus-Strick-Weg 12
SUMMARY:Abend­spaziergang im Museums­garten
DESCRIPTION:Unter dem Motto „Magische Geschichten zu Kräutern und Früch
 ten“ finden von Mai bis September geführte Spaziergänge durch den Museu
 msgarten statt. Pflanzen und Kräutern werden seit jeher auch magische Wirk
 ungen zugeschrieben. Das Kleeblatt bringt Glück\,  der Apfel die Liebe und
  der Breitwegerich galt gar als Orakelpflanze. In den Abendspaziergängen g
 eht es[..]\nhttps://kukuk.de/events/abendspaziergang-im-museumsgarten/
URL:https://kukuk.de/events/abendspaziergang-im-museumsgarten/
END:VEVENT
END:VCALENDAR