BEGIN:VCALENDAR
VERSION:2.0
PRODID:-//eventon.com NONSGML v1.0//EN
CALSCALE:GREGORIAN
METHOD:PUBLISH
BEGIN:VEVENT
UID:69e7670bf09de
DTSTAMP:20260421T120115Z
DTSTART:20260529
DTEND:20260530
LOCATION:Osnabrück | Morgenland Festival Osnabrück
SUMMARY:Morgenland Festival Osnabrück 2026
DESCRIPTION:Programm 2026: www.morgenland-festival.com/programmguide Ein Mo
 rgengrauen\,  das durch die sanften Klänge eines Symphonieorchesters einge
 leitet wird\,  das ist 2026 mit dem Morgenland Festival wieder möglich. Vo
 m 29. Mai bis 6. Juni kann das Publikum in der Lagerhalle einem Programm au
 s renommierten Ensembles wie auch Solistinnen und Solisten lauschen. Beim M
 orgenland Festival dreht[..]\nhttps://kukuk.de/events/morgenland-festival-o
 snabrueck-2026/
URL:https://kukuk.de/events/morgenland-festival-osnabrueck-2026/
END:VEVENT
END:VCALENDAR