BEGIN:VCALENDAR
VERSION:2.0
PRODID:-//eventon.com NONSGML v1.0//EN
CALSCALE:GREGORIAN
METHOD:PUBLISH
BEGIN:VEVENT
UID:69e74d640d027
DTSTAMP:20260421T101148Z
DTSTART:20260410T170000Z
DTEND:20260410T215900Z
LOCATION:Bramsche | Alte Webschule Georgstr. 2
SUMMARY:Jam Session
DESCRIPTION:Ihr seid herzlich eingeladen zu dieser exklusiven Jam Session\,
   bei der Musiker*innen aus verschieden Genres zusammenkommen\,  um in eine
 m spontanen und kreativen Rahmen gemeinsam Musik zu machen. Nach einem 30- 
 bis 45-minütigen Opener\,  wird die Bühne für alle Instrumentalist*in
 nen und Sänger*innen geöffnet\,  die vorbeikommen und spielen möchten. E
 insteiger*innen wie Fortgeschrittene[..]\nhttps://kukuk.de/events/jam-sessi
 on/
URL:https://kukuk.de/events/jam-session/
END:VEVENT
END:VCALENDAR