BEGIN:VCALENDAR
VERSION:2.0
PRODID:-//eventon.com NONSGML v1.0//EN
CALSCALE:GREGORIAN
METHOD:PUBLISH
BEGIN:VEVENT
UID:69e74e486d5d4
DTSTAMP:20260421T101536Z
DTSTART:20260411T130000Z
DTEND:20260411T215900Z
LOCATION:Osnabrück | Figurentheater – Alte Fuhrhalterei Kleine Gildewart 9
SUMMARY:„Schmecker­linchen oder: Das Raupen­wunder“ | Theater Fundulus
DESCRIPTION:Kleine Forscher*innen aufgepasst! Frau Prof. Dr. Dr. Lupe beoba
 chtet heute den Regenwurm Wurlius und die Raupe Schmeckerlinchen. Wurlius m
 ag Erde\,  Schmeckerlinchen alles Grüne. klarer Fall. Eines Morgens aber v
 erpuppt sich Schmeckerlinchen ohne jede Vorwarnung. Ob die anderen Tiere de
 m besorgten Wurlius weiter helfen können? Spiel\,  Figuren\,  Musik: Ruth 
 Pflaumer\nhttps://kukuk.de/events/schmeckerlinchen-oder-das-raupenwunder-th
 eater-fundulus/
URL:https://kukuk.de/events/schmeckerlinchen-oder-das-raupenwunder-theater-fundulus/
END:VEVENT
END:VCALENDAR