BEGIN:VCALENDAR
VERSION:2.0
PRODID:-//eventon.com NONSGML v1.0//EN
CALSCALE:GREGORIAN
METHOD:PUBLISH
BEGIN:VEVENT
UID:69e7800c3ac44
DTSTAMP:20260421T134756Z
DTSTART:20260517
DTEND:20260518
LOCATION:Osnabrück | Innenstadt
SUMMARY:Interna­tionaler Museumstag 2026
DESCRIPTION:Der Internationale Museumstag findet im Jahr 2026 bereits zum 4
 9. Mal statt. Er wird jährlich von Internationalen Museumsrat ICOM ausgeru
 fen und in Deutschland an einem Sonntag zelebriert. Ziel des Museumstages i
 st es\,  auf die Museen in Deutschland und weltweit aufmerksam zu machen un
 d Besucher*innen einzuladen\,  die Vielfalt der Museen zu[..]\nhttps://kuku
 k.de/events/internationaler-museumstag-2026/
URL:https://kukuk.de/events/internationaler-museumstag-2026/
END:VEVENT
END:VCALENDAR