BEGIN:VCALENDAR
VERSION:2.0
PRODID:-//eventon.com NONSGML v1.0//EN
CALSCALE:GREGORIAN
METHOD:PUBLISH
BEGIN:VEVENT
UID:69e78027dea91
DTSTAMP:20260421T134823Z
DTSTART:20260508
DTEND:20260509
LOCATION:Osnabrück | Innenstadt
SUMMARY:52. Osnabrücker Maiwoche
DESCRIPTION:Jedes Jahr ab dem zweiten Freitag im Mai verwandelt sich die Os
 nabrücker Innenstadt in eine Open-Air-Bühne: Die Maiwoche\,  eines der gr
 ößten Stadtfeste im Nordwesten\,  bietet zehn Tage lang ein vielfältiges
  Programm auf mehreren Bühnen und begeistert mit musikalischen und kulture
 llen Highlights im gesamten Stadtzentrum. Auch kulinarisch ist die Maiwoche
  ein[..]\nhttps://kukuk.de/events/52-osnabruecker-maiwoche/
URL:https://kukuk.de/events/52-osnabruecker-maiwoche/
END:VEVENT
END:VCALENDAR