BEGIN:VCALENDAR
VERSION:2.0
PRODID:-//eventon.com NONSGML v1.0//EN
CALSCALE:GREGORIAN
METHOD:PUBLISH
BEGIN:VEVENT
UID:69e780263e9c1
DTSTAMP:20260421T134822Z
DTSTART:20260430
DTEND:20260501
LOCATION:Osnabrück | Innenstadt
SUMMARY:Gay In May 2026 | Queeres Kulturfestival Osnabrück
DESCRIPTION:Seit über 45 Jahren ist das Kulturfestival Gay in May eine fes
 te Instanz im queeren Osnabrück und auch in diesem Jahr erwarten Euch wied
 er spannende Veranstaltungen und inspirierende Begegnungen in der Lagerhall
 e. Unter dem Motto: „Alles bleibt anders. Über Gesellschaften“ wollen 
 wir uns austauschen und gegen­seitig empowern. Ein besonderes Highlight[..
 ]\nhttps://kukuk.de/events/gay-in-may-2026-queeres-kulturfestival-osnabruec
 k/
URL:https://kukuk.de/events/gay-in-may-2026-queeres-kulturfestival-osnabrueck/
END:VEVENT
END:VCALENDAR