BEGIN:VCALENDAR
VERSION:2.0
PRODID:-//eventon.com NONSGML v1.0//EN
CALSCALE:GREGORIAN
METHOD:PUBLISH
BEGIN:VEVENT
UID:69e7670cb8333
DTSTAMP:20260421T120116Z
DTSTART:20260430T180000Z
DTEND:20260430T215900Z
LOCATION:Osnabrück | Lutherhaus Jahnstr. 1
SUMMARY:Guitar Night
DESCRIPTION:Bei diesem Konzert\,  das gleichzeitig den Auftakt zum traditio
 nellen Maiworkshop des Lutherhauses ist\,  stehen gleich drei sympathische 
 Meister der Gitarre nacheinander auf der Bühne des Lutherhauses\,  jeder m
 it seiner ganz eigenen Art zu spielen. Freunde der Celtic Music kommen an d
 iesem Abend genauso auf ihre Kosten wie Blueser\,  Fingerstyler oder[..]\nh
 ttps://kukuk.de/events/guitar-night/
URL:https://kukuk.de/events/guitar-night/
END:VEVENT
END:VCALENDAR