BEGIN:VCALENDAR
VERSION:2.0
PRODID:-//eventon.com NONSGML v1.0//EN
CALSCALE:GREGORIAN
METHOD:PUBLISH
BEGIN:VEVENT
UID:69e7379dd2ac7
DTSTAMP:20260421T083853Z
DTSTART:20260430T160000Z
DTEND:20260430T215900Z
LOCATION:Hilter a. T. W. | Pankratius Kirche Hauptstr. 19/21\,  Hilter-Borgloh
SUMMARY:Traditio­nelles Maibaum­aufstellen
DESCRIPTION:Den traditionellen Maibaum stellt der Heimatverein Borgloh jede
 s Jahr auf dem Kirchplatz in Borgloh auf. Die Männer der Freiwilligen Feue
 rwehr Borgloh werden dabei tatkräftige Hilfe leisten. Für zünftige Musik
  sorgt das Blasorchester Borgloh. Bratwürstchen und Bier werden zum Aussch
 ank bereitstehen.\nhttps://kukuk.de/events/traditionelles-maibaumaufstellen
 /
URL:https://kukuk.de/events/traditionelles-maibaumaufstellen/
END:VEVENT
END:VCALENDAR