BEGIN:VCALENDAR
VERSION:2.0
PRODID:-//eventon.com NONSGML v1.0//EN
CALSCALE:GREGORIAN
METHOD:PUBLISH
BEGIN:VEVENT
UID:69e766f847926
DTSTAMP:20260421T120056Z
DTSTART:20260430T180000Z
DTEND:20260430T162100Z
LOCATION:Osnabrück | Lagerhalle Rolandsmauer 26\,  49074 Osnabrück
SUMMARY:Tanz in den Mai
DESCRIPTION:Das Programm der sechsköpfigen Band Paradise At Midnight aus E
 ssen reicht von brandneuen Charts\,  über 80er-\,  90er- und 00er-Rock- un
 d Pop-Evergreens\,  bis hin zu Funk-Soul-Classics: mitreißende Beats\,  st
 immungsvolles Entertainment und eine energiegeladene Live-Show. Mit aktuell
 en Hits wie „Dance The Night“\,  Klassikern wie „I Wanna Dance With S
 omebody“ und kernigen Rocksongs[..]\nhttps://kukuk.de/events/tanz-in-den-
 mai/
URL:https://kukuk.de/events/tanz-in-den-mai/
END:VEVENT
END:VCALENDAR