BEGIN:VCALENDAR
VERSION:2.0
PRODID:-//eventon.com NONSGML v1.0//EN
CALSCALE:GREGORIAN
METHOD:PUBLISH
BEGIN:VEVENT
UID:69e74d19b3d96
DTSTAMP:20260421T101033Z
DTSTART:20260422T170000Z
DTEND:20260422T215900Z
LOCATION:Osnabrück | Lagerhalle Rolandsmauer 26\,  49074 Osnabrück
SUMMARY:17. Deutsch-Türkischer Begegnungs­abend
DESCRIPTION:Osnabrücks Partnerstadt Çanakkale steht im Mittelpunkt dieses
  Begegnungsabends\,  zu dem die Städtebotschafterin Elif Şeref einlädt.
  Die Städtebotschafterin wird ihre Heimatstadt und die Umgebung vorstellen
 \,  und Gäste sowie Partner werden ihre Eindrücke und Erfahrungen schilde
 rn\,  die sie bei Projekten mit Çanakkale und der türkischen Kultur gewon
 nen haben. Ein musikalisches Rahmenprogramm und kleine[..]\nhttps://kukuk.d
 e/events/17-deutsch-tuerkischer-begegnungsabend/
URL:https://kukuk.de/events/17-deutsch-tuerkischer-begegnungsabend/
END:VEVENT
END:VCALENDAR