BEGIN:VCALENDAR
VERSION:2.0
PRODID:-//eventon.com NONSGML v1.0//EN
CALSCALE:GREGORIAN
METHOD:PUBLISH
BEGIN:VEVENT
UID:69e767f66846d
DTSTAMP:20260421T120510Z
DTSTART:20260405T113000Z
DTEND:20260405T130000Z
LOCATION:Treffpunkt: MIK Museum Industriekultur (Bushaltestelle) Fürstenauer Weg 180\,  OS
SUMMARY:Piesberg­führung Süd
DESCRIPTION:Zu Fuß entlang der Feldbahngleise führt der Weg stetig steige
 nd über die Brücke und durch den Canyon zunächst bis auf die Ostseite de
 r Piesberg Felsrippe auf 188m. Unterwegs gibt es Informationen zur Feldbahn
 \,  zur Steinbruchindustrie\,  zur ehemaligen Deponie\,  zum Kohleflöz im 
 Canyon\,  dem Abbau der Steinkohle und der Rotteanlage. Ein[..]\nhttps://ku
 kuk.de/events/piesbergfuehrung-sued/
URL:https://kukuk.de/events/piesbergfuehrung-sued/
END:VEVENT
END:VCALENDAR