BEGIN:VCALENDAR
VERSION:2.0
PRODID:-//eventon.com NONSGML v1.0//EN
CALSCALE:GREGORIAN
METHOD:PUBLISH
BEGIN:VEVENT
UID:69e7670ba61d9
DTSTAMP:20260421T120115Z
DTSTART:20260320T170000Z
DTEND:20260320T225900Z
LOCATION:Osnabrück | Erstes unordentliches Zimmertheater Lohstr. 45a
SUMMARY:Gift. Eine Ehe­geschichte
DESCRIPTION:Nach mehr als zehn Jahren treffen sich eine Frau und ein Mann a
 uf einem Friedhof. Es ist der Ort\,  wo sie ihr gemeinsames Kind nach einem
  tödlichen Unfall begraben mussten. Beide sind sehr unterschiedliche Wege 
 gegangen\,  haben auf unterschiedlichen Wegen versucht\,  um mit dem Verlus
 t abzuschließen. Aber noch ist nicht[..]\nhttps://kukuk.de/events/gift-ein
 e-ehegeschichte/
URL:https://kukuk.de/events/gift-eine-ehegeschichte/
END:VEVENT
END:VCALENDAR