BEGIN:VCALENDAR
VERSION:2.0
PRODID:-//eventon.com NONSGML v1.0//EN
CALSCALE:GREGORIAN
METHOD:PUBLISH
BEGIN:VEVENT
UID:69e8a8a72a272
DTSTAMP:20260422T105327Z
DTSTART:20260313T153000Z
DTEND:20260313T225900Z
LOCATION:Treffpunkt: ADFC-Treff Lohstr. 31\,  OS
SUMMARY:Auf ins Wochenende\,  ab in die Pedale | ADFC
DESCRIPTION:Mit einer kleinen Feierabendtour und netten Menschen das Wochen
 ende einläuten\,  auf guten verkehrsarmen Wegen eine Runde drehen und züg
 ig ins Wochenende starten. Am Ende findet sich immer ein Biergarten oder ei
 n Restaurant für eine kleine Einkehr. Länge: 35 km Tourleiter: Volker Bar
 tsch  Voraussetzungen sind ein verkehrssicheres Fahrrad gem. StVZO §[..]\
 nhttps://kukuk.de/events/auf-ins-wochenende-ab-in-die-pedale-adfc/
URL:https://kukuk.de/events/auf-ins-wochenende-ab-in-die-pedale-adfc/
END:VEVENT
END:VCALENDAR