BEGIN:VCALENDAR
VERSION:2.0
PRODID:-//eventon.com NONSGML v1.0//EN
CALSCALE:GREGORIAN
METHOD:PUBLISH
BEGIN:VEVENT
UID:69e766b2b201c
DTSTAMP:20260421T115946Z
DTSTART:20260525T140000Z
DTEND:20260525T215900Z
LOCATION:Treffpunkt: Piesberger Gesellschaftshaus Glückaufstr. 1\,  OS
SUMMARY:Chanson-Nachmittag mit Martin Gehrmann
DESCRIPTION:Martin Gehrmann (Gesang\,  Akkordeon) singt einige seiner Liebl
 ings-Chansons und anschließend werden Chansons gemeinsam gesungen – von 
 Hildegard Knef und Edith Piaf bis zu Jaques Brel und Georg Kreisler.\nhttps
 ://kukuk.de/events/chanson-nachmittag-mit-martin-gehrmann/
URL:https://kukuk.de/events/chanson-nachmittag-mit-martin-gehrmann/
END:VEVENT
END:VCALENDAR