BEGIN:VCALENDAR
VERSION:2.0
PRODID:-//eventon.com NONSGML v1.0//EN
CALSCALE:GREGORIAN
METHOD:PUBLISH
BEGIN:VEVENT
UID:69e74de65c8f7
DTSTAMP:20260421T101358Z
DTSTART:20260520T170000Z
DTEND:20260520T215900Z
LOCATION:Treffpunkt: OsnabrückHalle Schlosswall 1\,  OS
SUMMARY:Vision Zero Demo | Ride of Silence
DESCRIPTION:Alle sollen ankommen\,  keiner soll umkommen! Keine Getöteten 
 und Schwerverletzten mehr auf unseren Straßen. Macht den Straßenverkehr e
 ndlich sicher! Ride of Silence ist die stille Gedenkfahrt für getötete Ve
 rkehrsteilnehmer*innen. Hierbei werden die Unfallstellen und Ghostbikes der
  letzten Jahre angefahren\,  wo Radfahrer*innen tödlich verunglückt sind.
  Voraussetzungen sind ein verkehrssicheres Fahrrad gem.[..]\nhttps://kukuk.
 de/events/vision-zero-demo-ride-of-silence/
URL:https://kukuk.de/events/vision-zero-demo-ride-of-silence/
END:VEVENT
END:VCALENDAR