BEGIN:VCALENDAR
VERSION:2.0
PRODID:-//eventon.com NONSGML v1.0//EN
CALSCALE:GREGORIAN
METHOD:PUBLISH
BEGIN:VEVENT
UID:69e767f565792
DTSTAMP:20260421T120509Z
DTSTART:20260328T140000Z
DTEND:20260328T225900Z
LOCATION:Osnabrück | Figurentheater – Alte Fuhrhalterei Kleine Gildewart 9
SUMMARY:„Die Werkstatt der Schmetter­linge“ | Artisanen
DESCRIPTION:Rodolfo ist einer von vielen „Gestaltern Aller Dinge“\,  de
 ren Aufgabe es ist\,  sich jedes Lebewesen\,  jedes Ding auf der Erde mit g
 rößter Weisheit auszumalen und zu verwirklichen als die Erde noch komplet
 t leer und grau war. Doch Rodolfos Traum ist es\,  ein Wesen zu schaffen\, 
  das wie ein Vogel und[..]\nhttps://kukuk.de/events/die-werkstatt-der-schme
 tterlinge-artisanen/
URL:https://kukuk.de/events/die-werkstatt-der-schmetterlinge-artisanen/
END:VEVENT
END:VCALENDAR